BEGIN:VCALENDAR
VERSION:2.0
PRODID:-//ChamberMaster//Event Calendar 2.0//EN
METHOD:PUBLISH
X-PUBLISHED-TTL:P3D
REFRESH-INTERVAL:P3D
CALSCALE:GREGORIAN
BEGIN:VEVENT
DTSTART:20180813T210000Z
DTEND:20180813T213000Z
X-MICROSOFT-CDO-ALLDAYEVENT:FALSE
SUMMARY:Ribbon Cutting - BW Portrait Art
DESCRIPTION:Join us to celebrate the new location of BW Portrait Art!
X-ALT-DESC;FMTTYPE=text/html:Join us to celebrate the new location of BW Portrait Art!
LOCATION:2101 105th Avenue NE Blaine 55449
UID:e.380.185789
SEQUENCE:3
DTSTAMP:20260420T170423Z
URL:http://members.metronorthchamber.org/events/details/ribbon-cutting-bw-portrait-art-185789
END:VEVENT

END:VCALENDAR
