BEGIN:VCALENDAR
VERSION:2.0
PRODID:-//ChamberMaster//Event Calendar 2.0//EN
METHOD:PUBLISH
X-PUBLISHED-TTL:P3D
REFRESH-INTERVAL:P3D
CALSCALE:GREGORIAN
BEGIN:VEVENT
DTSTART:20160511T170000Z
DTEND:20160511T173000Z
X-MICROSOFT-CDO-ALLDAYEVENT:FALSE
SUMMARY:Ribbon Cutting - Buffalo Wild Wings - Coon Rapids
DESCRIPTION:Come celebrate the ribbon cutting for Buffalo Wild Wings in Coon Rapids! They're holding this event to celebrate the completion of a remodel. Buffalo Wild Wings will be providing wings and other sides for the ribbon cutting attendees.
X-ALT-DESC;FMTTYPE=text/html:<span style="background-image:initial\;background-attachment:initial\;background-size:initial\;background-origin:initial\;background-clip:initial\;background-position:initial\;background-repeat:initial\;"><span style="font-family:arial\,sans-serif\;"><span style="font-size:10pt\;">Come celebrate the ribbon cutting for Buffalo Wild Wings in Coon Rapids! They&rsquo\;re holding this event to celebrate the completion of a remodel. Buffalo Wild Wings will be providing wings and other sides for the ribbon cutting attendees.&nbsp\;&nbsp\;</span></span></span>
LOCATION:Buffalo Wild Wings 3395 River Rapids Drive Coon Rapids\, MN 55448
UID:e.380.167440
SEQUENCE:3
DTSTAMP:20260422T121001Z
URL:http://members.metronorthchamber.org/events/details/ribbon-cutting-buffalo-wild-wings-coon-rapids-05-11-2016-167440
END:VEVENT

END:VCALENDAR
