BEGIN:VCALENDAR
VERSION:2.0
PRODID:-//ChamberMaster//Event Calendar 2.0//EN
METHOD:PUBLISH
X-PUBLISHED-TTL:P3D
REFRESH-INTERVAL:P3D
CALSCALE:GREGORIAN
BEGIN:VEVENT
DTSTART:20170316T210000Z
DTEND:20170316T214500Z
X-MICROSOFT-CDO-ALLDAYEVENT:FALSE
SUMMARY:Ribbon Cutting - Brunswick Zone/Bowlero
DESCRIPTION:Brunswick Zone will be holding a ribbon cutting in celebration of their new name and branding\, Bowlero!\n\n\n\nBowlero will be offering a complimentary cocktail\, Bowling\, arcade game cards\, laser tag and light appetizers. Along with this we will be giving tours of the facility. We do have complimentary billiards\, darts\, ping pong\, bean bag toss and lawn jenga in the lounge.
X-ALT-DESC;FMTTYPE=text/html:<span style="color:#000000\;">Brunswick Zone will be holding a ribbon cutting in celebration of their new name and branding\, Bowlero!<br />\n<br />\n<span style="font-family:franklin gothic book\,sans-serif\;">Bowlero will be offering a complimentary cocktail\, Bowling\, arcade game cards\, laser tag and light appetizers. Along with this we will be giving tours of the facility. We do have complimentary billiards\, darts\, ping pong\, bean bag toss and lawn jenga in the lounge.&nbsp\;</span></span><br />\n&nbsp\;
LOCATION:11351 Ulysses St NE\, Blaine MN 55434
UID:e.380.171748
SEQUENCE:3
DTSTAMP:20260421T204045Z
URL:http://members.metronorthchamber.org/events/details/ribbon-cutting-brunswick-zone-bowlero-171748
END:VEVENT

END:VCALENDAR
