BEGIN:VCALENDAR
VERSION:2.0
PRODID:-//ChamberMaster//Event Calendar 2.0//EN
METHOD:PUBLISH
X-PUBLISHED-TTL:P3D
REFRESH-INTERVAL:P3D
CALSCALE:GREGORIAN
BEGIN:VEVENT
DTSTART:20160726T210000Z
DTEND:20160726T214500Z
X-MICROSOFT-CDO-ALLDAYEVENT:FALSE
SUMMARY:Ribbon Cutting - Bolt Hoffer Boyd Law Firm
DESCRIPTION:Ribbon Cutting for Bolt Hoffer Boyd Law Firm to celebrate the opening of their new office in Anoka.
X-ALT-DESC;FMTTYPE=text/html:Ribbon Cutting for Bolt Hoffer Boyd Law Firm to celebrate the opening of their new office in Anoka.
LOCATION:Bolt Hoffer Boyd Law Firm 2150 Third Ave. N\, Suite 350 Anoka\, MN 55303
UID:e.380.168644
SEQUENCE:3
DTSTAMP:20260422T092444Z
URL:http://members.metronorthchamber.org/events/details/ribbon-cutting-bolt-hoffer-boyd-law-firm-07-26-2016-168644
END:VEVENT

END:VCALENDAR
