BEGIN:VCALENDAR
VERSION:2.0
PRODID:-//ChamberMaster//Event Calendar 2.0//EN
METHOD:PUBLISH
X-PUBLISHED-TTL:P3D
REFRESH-INTERVAL:P3D
CALSCALE:GREGORIAN
BEGIN:VEVENT
DTSTART:20190912T210000Z
DTEND:20190912T220000Z
X-MICROSOFT-CDO-ALLDAYEVENT:FALSE
SUMMARY:Ribbon Cutting Body Sense Pilates & Wellness Studio
DESCRIPTION:Join us for a ribbon cutting to celebrate the grand opening of Body Sense Pilates & Wellness Studio. Ribbon will be cut at 4:15 pm. Cake and champagne to follow.\n\n\n\nCheck out our calendar for other grand opening events happening at Body Sense Pilates & Wellness on Thursday\, September 12 through Saturday\, September 14!
X-ALT-DESC;FMTTYPE=text/html:Join us for a ribbon cutting to celebrate the grand opening of Body Sense Pilates &amp\; Wellness Studio. Ribbon will be cut at 4:15 pm. Cake and champagne to follow.<br />\n<br />\nCheck out our calendar for other grand opening events happening at Body Sense Pilates &amp\; Wellness on Thursday\, September 12 through Saturday\, September 14!
LOCATION:10731 University Avenue NE\, Suite 230 Blaine 55434
UID:e.380.190963
SEQUENCE:3
DTSTAMP:20260419T193414Z
URL:http://members.metronorthchamber.org/events/details/ribbon-cutting-body-sense-pilates-wellness-studio-190963
END:VEVENT

END:VCALENDAR
