BEGIN:VCALENDAR
VERSION:2.0
PRODID:-//ChamberMaster//Event Calendar 2.0//EN
METHOD:PUBLISH
X-PUBLISHED-TTL:P3D
REFRESH-INTERVAL:P3D
CALSCALE:GREGORIAN
BEGIN:VEVENT
DTSTART:20171025T210000Z
DTEND:20171025T220000Z
X-MICROSOFT-CDO-ALLDAYEVENT:FALSE
SUMMARY:Ribbon Cutting - Boardwalk DIY Studio Andover
DESCRIPTION:Ribbon cutting for a brand new chamber member\, Boardwalk DIY Studio!
X-ALT-DESC;FMTTYPE=text/html:Ribbon cutting for a brand new chamber member\, Boardwalk DIY Studio!
LOCATION:1574 154th Avenue NW Suite 107B Andover 55304
UID:e.380.179194
SEQUENCE:3
DTSTAMP:20260421T084308Z
URL:http://members.metronorthchamber.org/events/details/ribbon-cutting-boardwalk-diy-studio-andover-179194
END:VEVENT

END:VCALENDAR
