BEGIN:VCALENDAR
VERSION:2.0
PRODID:-//ChamberMaster//Event Calendar 2.0//EN
METHOD:PUBLISH
X-PUBLISHED-TTL:P3D
REFRESH-INTERVAL:P3D
CALSCALE:GREGORIAN
BEGIN:VEVENT
DTSTART:20160426T211500Z
DTEND:20160426T214500Z
X-MICROSOFT-CDO-ALLDAYEVENT:FALSE
SUMMARY:Ribbon Cutting - Blue Sun Soda Shop
DESCRIPTION:Help celebrate the ribbon cutting for Blue Sun Soda & Sweets Shop! They are holding this event to celebrate their new membership with the MetroNorth Chamber! They will have snacks\, a tour of the store from our very own soda jerk\, tastings and a special surprise appearances too!
X-ALT-DESC;FMTTYPE=text/html:<span style="font-family:arial\;">Help celebrate the ribbon cutting for Blue Sun Soda &amp\; Sweets&nbsp\;Shop! They are holding this event to celebrate their new membership with the&nbsp\;MetroNorth Chamber! They will have&nbsp\;<span style="font-size:10.0pt\;">snacks\, a tour of the store from our very own soda jerk\, tastings and a special surprise appearances too!</span></span>
LOCATION:Blue Sun Soda & Sweets Shop 1625 County Highway 10 Suite D Spring Lake Park\, MN 55432
UID:e.380.167399
SEQUENCE:3
DTSTAMP:20260422T152117Z
URL:http://members.metronorthchamber.org/events/details/ribbon-cutting-blue-sun-soda-shop-04-26-2016-167399
END:VEVENT

END:VCALENDAR
