BEGIN:VCALENDAR
VERSION:2.0
PRODID:-//ChamberMaster//Event Calendar 2.0//EN
METHOD:PUBLISH
X-PUBLISHED-TTL:P3D
REFRESH-INTERVAL:P3D
CALSCALE:GREGORIAN
BEGIN:VEVENT
DTSTART:20170323T210000Z
DTEND:20170323T214500Z
X-MICROSOFT-CDO-ALLDAYEVENT:FALSE
SUMMARY:Ribbon Cutting - Blaine Orthodontics
DESCRIPTION:Help celebrate Blaine Orthodontics 1 year anniversary with a ribbon cutting event. They will be holding drawings\, food and refreshments for their guests.
X-ALT-DESC;FMTTYPE=text/html:Help celebrate Blaine Orthodontics 1 year anniversary with a ribbon cutting event. They will be holding drawings\, food and refreshments for their guests.&nbsp\;
LOCATION:Blaine Orthodontics 10945 Club West Parkway Suite 170 Blaine\, MN 55449
UID:e.380.171484
SEQUENCE:3
DTSTAMP:20260421T184818Z
URL:http://members.metronorthchamber.org/events/details/ribbon-cutting-blaine-orthodontics-171484
END:VEVENT

END:VCALENDAR
