BEGIN:VCALENDAR
VERSION:2.0
PRODID:-//ChamberMaster//Event Calendar 2.0//EN
METHOD:PUBLISH
X-PUBLISHED-TTL:P3D
REFRESH-INTERVAL:P3D
CALSCALE:GREGORIAN
BEGIN:VEVENT
DTSTART:20151103T221500Z
DTEND:20151103T224500Z
X-MICROSOFT-CDO-ALLDAYEVENT:FALSE
SUMMARY:Ribbon Cutting - Blaine Health & Wellness
DESCRIPTION:Blaine Health & Wellness will be celebrating their Grand Opening on Tuesday November 3rd. They will be celebrating with a ribbon cutting at 4:30 pm.
X-ALT-DESC;FMTTYPE=text/html:Blaine Health &amp\; Wellness will be celebrating their Grand Opening on Tuesday November 3rd. They will be&nbsp\;celebrating with a ribbon cutting at 4:30&nbsp\;pm.
LOCATION:Blaine Health & Wellness 1630 101st Street Suite 140 Blaine\, MN 55449
UID:e.380.159781
SEQUENCE:3
DTSTAMP:20260422T222350Z
URL:http://members.metronorthchamber.org/events/details/ribbon-cutting-blaine-health-wellness-11-03-2015-159781
END:VEVENT

END:VCALENDAR
