BEGIN:VCALENDAR
VERSION:2.0
PRODID:-//ChamberMaster//Event Calendar 2.0//EN
METHOD:PUBLISH
X-PUBLISHED-TTL:P3D
REFRESH-INTERVAL:P3D
CALSCALE:GREGORIAN
BEGIN:VEVENT
DTSTART:20190627T220000Z
DTEND:20190628T030000Z
X-MICROSOFT-CDO-ALLDAYEVENT:FALSE
SUMMARY:Ribbon Cutting-Blaine Festival 50th Anniversary Celebration
DESCRIPTION:Come and help celebrate the Blaine Festival's 50th Anniversary Kick-Off.  Enjoy complementary food and refreshments courtesy of our friends at Chili's of Blaine and Tria Restaurant. Celebrating 50 years of community. Ribbon will be cut at 5:15 p.m. \n\n\n\nPlease Note: The Central/Ulysses Street entrance to Aquatore Park will be closed to traffic at 5:00 p.m. on Thursday afternoon. Please enter on Lincoln Street for parking or you may park in the Village Bank parking lot and walk down to the Information Tent. The Blaine Festival Volunteer Committee will have 6-passenger golf carts to carry attendees back and forth to their vehicles if needed.
X-ALT-DESC;FMTTYPE=text/html:Come and help celebrate the Blaine Festival&rsquo\;s 50<sup>th</sup> Anniversary Kick-Off.&nbsp\; Enjoy complementary food and refreshments courtesy of our friends at Chili&rsquo\;s of Blaine and Tria Restaurant. Celebrating 50 years of community. Ribbon will be cut at 5:15 p.m.&nbsp\;<br />\n<br />\n<em>Please Note:</em> The Central/Ulysses Street entrance to Aquatore Park will be closed to traffic at 5:00 p.m. on Thursday afternoon. Please enter on Lincoln Street for parking or you may park in the Village Bank parking lot and walk down to the Information Tent. The Blaine Festival Volunteer Committee will have 6-passenger golf carts to carry attendees back and forth to their vehicles if needed.<br />\n&nbsp\;
LOCATION:Information Tent at Aquatore Park 9191 Lincoln Street NE Blaine 55434
UID:e.380.188978
SEQUENCE:3
DTSTAMP:20260420T003030Z
URL:http://members.metronorthchamber.org/events/details/ribbon-cutting-blaine-festival-50th-anniversary-celebration-188978
END:VEVENT

END:VCALENDAR
