BEGIN:VCALENDAR
VERSION:2.0
PRODID:-//ChamberMaster//Event Calendar 2.0//EN
METHOD:PUBLISH
X-PUBLISHED-TTL:P3D
REFRESH-INTERVAL:P3D
CALSCALE:GREGORIAN
BEGIN:VEVENT
DTSTART:20150626T211500Z
DTEND:20150626T220000Z
X-MICROSOFT-CDO-ALLDAYEVENT:FALSE
SUMMARY:Ribbon Cutting - Blaine Festival
DESCRIPTION:You're invited to help us in celebrating the Ribbon Cutting for the Blaine Festival. The Ribbon cutting will be taking place right before the festival starts. The ribbon will be cut at 4:30 p.m.
X-ALT-DESC;FMTTYPE=text/html:You&#39\;re invited to help us in celebrating the Ribbon Cutting for the Blaine Festival. The Ribbon cutting will be taking place right before the festival starts. The ribbon will be cut at 4:30 p.m.
LOCATION:Aquatore Park\, Corner of Hwys. 10 & 65\, Blaine\, 55434
UID:e.380.157305
SEQUENCE:3
DTSTAMP:20260423T090730Z
URL:http://members.metronorthchamber.org/events/details/ribbon-cutting-blaine-festival-06-26-2015-157305
END:VEVENT

END:VCALENDAR
