BEGIN:VCALENDAR
VERSION:2.0
PRODID:-//ChamberMaster//Event Calendar 2.0//EN
METHOD:PUBLISH
X-PUBLISHED-TTL:P3D
REFRESH-INTERVAL:P3D
CALSCALE:GREGORIAN
BEGIN:VEVENT
DTSTART:20170510T210000Z
DTEND:20170510T214500Z
X-MICROSOFT-CDO-ALLDAYEVENT:FALSE
SUMMARY:Ribbon Cutting - Blaine Family Chiropractic
DESCRIPTION:Help Blaine Family Chiropractic celebrate the opening of their new office space. They will be holding a ribbon cutting in celebration!
X-ALT-DESC;FMTTYPE=text/html:Help Blaine Family Chiropractic celebrate the opening of their new office space. They will be holding a ribbon cutting in celebration!
LOCATION:Blaine Family Chiropractic 13352 Aberdeen St. NE Suite A Ham Lake\, MN 55304
UID:e.380.171488
SEQUENCE:3
DTSTAMP:20260421T153415Z
URL:http://members.metronorthchamber.org/events/details/ribbon-cutting-blaine-family-chiropractic-171488
END:VEVENT

END:VCALENDAR
