BEGIN:VCALENDAR
VERSION:2.0
PRODID:-//ChamberMaster//Event Calendar 2.0//EN
METHOD:PUBLISH
X-PUBLISHED-TTL:P3D
REFRESH-INTERVAL:P3D
CALSCALE:GREGORIAN
BEGIN:VEVENT
DTSTART:20190403T210000Z
DTEND:20190403T220000Z
X-MICROSOFT-CDO-ALLDAYEVENT:FALSE
SUMMARY:Ribbon Cutting-Blaine Family Chiropractic
DESCRIPTION:Join us for a ribbon cutting and to experience Cryotherapy - Blaine Family Chiropractic's newest treatment. Ribbon will be cut at 4:15 pm
X-ALT-DESC;FMTTYPE=text/html:Join us for a ribbon cutting and to experience Cryotherapy - Blaine Family Chiropractic's newest treatment. Ribbon will be cut at 4:15 pm
LOCATION:Blaine Family Chiropractic 13352 Aberdeen Street\, Suite A Ham Lake 55304
UID:e.380.188209
SEQUENCE:3
DTSTAMP:20260420T041834Z
URL:http://members.metronorthchamber.org/events/details/ribbon-cutting-blaine-family-chiropractic-02-28-2019-188209
END:VEVENT

END:VCALENDAR
