BEGIN:VCALENDAR
VERSION:2.0
PRODID:-//ChamberMaster//Event Calendar 2.0//EN
METHOD:PUBLISH
X-PUBLISHED-TTL:P3D
REFRESH-INTERVAL:P3D
CALSCALE:GREGORIAN
BEGIN:VEVENT
DTSTART:20120514T160000Z
DTEND:20120515T043000Z
X-MICROSOFT-CDO-ALLDAYEVENT:FALSE
SUMMARY:Ribbon Cutting - Baker's Square of Blaine
DESCRIPTION:Come celebrate the re-model and ribbon cutting of Baker's Square's Blaine location!  Some of the activities will include a drawing to win a pie each month of the year\, pie samples and gift cards given to all chamber members in attendance.
X-ALT-DESC;FMTTYPE=text/html:Come celebrate the re-model and ribbon cutting of Baker&#39\;s Square&#39\;s&nbsp\;Blaine location!&nbsp\;&nbsp\;Some of the activities will include a drawing&nbsp\;to win a pie&nbsp\;each month of the&nbsp\;year\,&nbsp\;pie samples and&nbsp\;gift cards given to all chamber members in attendance.<br />\n
LOCATION:221 County Rd. 10 Blaine\, MN 55434
UID:e.380.143804
SEQUENCE:3
DTSTAMP:20260425T192740Z
URL:http://members.metronorthchamber.org/events/details/ribbon-cutting-baker-s-square-of-blaine-05-14-2012-143804
END:VEVENT

END:VCALENDAR
