BEGIN:VCALENDAR
VERSION:2.0
PRODID:-//ChamberMaster//Event Calendar 2.0//EN
METHOD:PUBLISH
X-PUBLISHED-TTL:P3D
REFRESH-INTERVAL:P3D
CALSCALE:GREGORIAN
BEGIN:VEVENT
DTSTART:20170206T180000Z
DTEND:20170206T184500Z
X-MICROSOFT-CDO-ALLDAYEVENT:FALSE
SUMMARY:Ribbon Cutting - Atlas Staffing Mounds View
DESCRIPTION:Help celebrate the new membership of Atlas Staffing in Mounds View. They are new members to the chamber. Help welcome them to our business community.
X-ALT-DESC;FMTTYPE=text/html:Help celebrate the new membership of Atlas Staffing in Mounds View. They are new members to the chamber. Help welcome them to our business community.
LOCATION:Atlas Staffing\, Inc. - Mounds View 2575 County Highway 10 Mounds View\, MN 55112
UID:e.380.171482
SEQUENCE:3
DTSTAMP:20260421T204414Z
URL:http://members.metronorthchamber.org/events/details/ribbon-cutting-atlas-staffing-mounds-view-171482
END:VEVENT

END:VCALENDAR
