BEGIN:VCALENDAR
VERSION:2.0
PRODID:-//ChamberMaster//Event Calendar 2.0//EN
METHOD:PUBLISH
X-PUBLISHED-TTL:P3D
REFRESH-INTERVAL:P3D
CALSCALE:GREGORIAN
BEGIN:VEVENT
DTSTART:20160617T140000Z
DTEND:20160617T143000Z
X-MICROSOFT-CDO-ALLDAYEVENT:FALSE
SUMMARY:Ribbon Cutting - At Home
DESCRIPTION:Help Celebrate the Ribbon Cutting of At Home. They will be holding this ribbon cutting to celebrate their new membership with the MetroNorth Chamber.
X-ALT-DESC;FMTTYPE=text/html:<span style="line-height: 20.8px\;">Help Celebrate the Ribbon Cutting of At Home. They will be holding this ribbon cutting to celebrate their new membership with the MetroNorth Chamber.</span>
LOCATION:At Home 4405 NE Pheasant Ridge DR Blaine\, MN 55449
UID:e.380.168449
SEQUENCE:3
DTSTAMP:20260422T102912Z
URL:http://members.metronorthchamber.org/events/details/ribbon-cutting-at-home-06-17-2016-168449
END:VEVENT

END:VCALENDAR
