BEGIN:VCALENDAR
VERSION:2.0
PRODID:-//ChamberMaster//Event Calendar 2.0//EN
METHOD:PUBLISH
X-PUBLISHED-TTL:P3D
REFRESH-INTERVAL:P3D
CALSCALE:GREGORIAN
BEGIN:VEVENT
DTSTART:20171005T143000Z
DTEND:20171005T153000Z
X-MICROSOFT-CDO-ALLDAYEVENT:FALSE
SUMMARY:Ribbon Cutting at Golden Corral
DESCRIPTION:Ribbon Cutting for new business and chamber member Golden Corral!\n\nAfter the ribbon cutting attendees are invited to enjoy the brunch buffet!
X-ALT-DESC;FMTTYPE=text/html:Ribbon Cutting for new business and chamber member Golden Corral!<br />\nAfter the ribbon cutting attendees are invited to enjoy the brunch buffet!
LOCATION:3580 Main St. Coon Rapids\, MN 55448
UID:e.380.177970
SEQUENCE:3
DTSTAMP:20260421T085624Z
URL:http://members.metronorthchamber.org/events/details/ribbon-cutting-at-golden-corral-177970
END:VEVENT

END:VCALENDAR
