BEGIN:VCALENDAR
VERSION:2.0
PRODID:-//ChamberMaster//Event Calendar 2.0//EN
METHOD:PUBLISH
X-PUBLISHED-TTL:P3D
REFRESH-INTERVAL:P3D
CALSCALE:GREGORIAN
BEGIN:VEVENT
DTSTART:20170913T210000Z
DTEND:20170913T220000Z
X-MICROSOFT-CDO-ALLDAYEVENT:FALSE
SUMMARY:Ribbon Cutting at First Community Mortgage Maple Grove
DESCRIPTION:Join us for a Grand Opening of First Community Mortgage's newest branch in Maple Grove!\n\n\n\nFood and Drinks will be provided\n\n\n\nAll interested parties welcome
X-ALT-DESC;FMTTYPE=text/html:Join us for a Grand Opening of First Community Mortgage&#39\;s newest branch in Maple Grove!<br />\n<br />\nFood and Drinks will be provided<br />\n<br />\nAll interested parties welcome
LOCATION:11671 Fountains Dr. Suite 200 Maple Grove\, MN 55369
UID:e.380.176720
SEQUENCE:3
DTSTAMP:20260421T095421Z
URL:http://members.metronorthchamber.org/events/details/ribbon-cutting-at-first-community-mortgage-maple-grove-176720
END:VEVENT

END:VCALENDAR
