BEGIN:VCALENDAR
VERSION:2.0
PRODID:-//ChamberMaster//Event Calendar 2.0//EN
METHOD:PUBLISH
X-PUBLISHED-TTL:P3D
REFRESH-INTERVAL:P3D
CALSCALE:GREGORIAN
BEGIN:VEVENT
DTSTART:20180726T164500Z
DTEND:20180726T171500Z
X-MICROSOFT-CDO-ALLDAYEVENT:FALSE
SUMMARY:Ribbon Cutting - ASAP Vacuum
DESCRIPTION:Join us in celebrating the 1 year anniversary of ASAP Vacuum\n\nRefreshments provided.\n\nIn-store drawing.\n\n20% off everything Anniversary Sale!
X-ALT-DESC;FMTTYPE=text/html:Join us in celebrating the 1 year anniversary of ASAP Vacuum<br />\nRefreshments provided.<br />\nIn-store drawing.<br />\n20% off everything Anniversary Sale!
LOCATION:11884 Round Lake Blvd NW\, Coon Rapids\, MN 55433
UID:e.380.185395
SEQUENCE:3
DTSTAMP:20260420T182630Z
URL:http://members.metronorthchamber.org/events/details/ribbon-cutting-asap-vacuum-185395
END:VEVENT

END:VCALENDAR
