BEGIN:VCALENDAR
VERSION:2.0
PRODID:-//ChamberMaster//Event Calendar 2.0//EN
METHOD:PUBLISH
X-PUBLISHED-TTL:P3D
REFRESH-INTERVAL:P3D
CALSCALE:GREGORIAN
BEGIN:VEVENT
DTSTART:20170602T170000Z
DTEND:20170602T180000Z
X-MICROSOFT-CDO-ALLDAYEVENT:FALSE
SUMMARY:Ribbon Cutting - Apricot Lane Boutique
DESCRIPTION:Apricot Lane Boutique will be having their Grand Opening Weekend this weekend and we are going to kick start it with a MetroNorth ribbon cutting!
X-ALT-DESC;FMTTYPE=text/html:Apricot Lane Boutique will be having their Grand Opening Weekend this weekend and we are going to kick start it with a MetroNorth&nbsp\;ribbon cutting!&nbsp\;&nbsp\;&nbsp\;&nbsp\;&nbsp\;&nbsp\;&nbsp\;&nbsp\;&nbsp\;
LOCATION:Apricot Lane Boutique 4255 Pheasant Ridge Dr. Suite 314 Blaine
UID:e.380.175100
SEQUENCE:3
DTSTAMP:20260421T135636Z
URL:http://members.metronorthchamber.org/events/details/ribbon-cutting-apricot-lane-boutique-175100
END:VEVENT

END:VCALENDAR
