BEGIN:VCALENDAR
VERSION:2.0
PRODID:-//ChamberMaster//Event Calendar 2.0//EN
METHOD:PUBLISH
X-PUBLISHED-TTL:P3D
REFRESH-INTERVAL:P3D
CALSCALE:GREGORIAN
BEGIN:VEVENT
DTSTART:20120521T130000Z
DTEND:20120521T220000Z
X-MICROSOFT-CDO-ALLDAYEVENT:FALSE
SUMMARY:Ribbon Cutting - Anytime Fitness - Ham Lake
DESCRIPTION:Come celebrate the Grand Re-Opening and Ribbon Cutting of the NEWLY RENOVATED Anytime Fitness of Ham Lake!\n		\n			 \n		\n			The Ribbon Cutting to occur at 8 a.m.\, though the festivities will last all day long.  Refreshments served.
X-ALT-DESC;FMTTYPE=text/html:<div style="color: gray">\n	<div>\n		<div>\n			Come celebrate the Grand Re-Opening and Ribbon Cutting of the NEWLY RENOVATED Anytime Fitness of Ham Lake!</div>\n		<div>\n			&nbsp\;</div>\n		<div>\n			The Ribbon Cutting to occur at 8 a.m.\, though the festivities will last all day&nbsp\;long.&nbsp\; Refreshments served.</div>\n	</div>\n</div>\n
LOCATION:Anytime Fitness 1321 Andover Blvd. NE Ham Lake\, MN
UID:e.380.143801
SEQUENCE:3
DTSTAMP:20260425T181749Z
URL:http://members.metronorthchamber.org/events/details/ribbon-cutting-anytime-fitness-ham-lake-05-21-2012-143801
END:VEVENT

END:VCALENDAR
