BEGIN:VCALENDAR
VERSION:2.0
PRODID:-//ChamberMaster//Event Calendar 2.0//EN
METHOD:PUBLISH
X-PUBLISHED-TTL:P3D
REFRESH-INTERVAL:P3D
CALSCALE:GREGORIAN
BEGIN:VEVENT
DTSTART:20170928T130000Z
DTEND:20170928T140000Z
X-MICROSOFT-CDO-ALLDAYEVENT:FALSE
SUMMARY:Ribbon Cutting - Anoka County Commute Solution
DESCRIPTION:Join us in celebrating the new shuttle for commuters\, bringing them from Fridley to local major employers! \n\nShuttle Bus Tours will be given at 7:30 am\n\n\n\nCoffee and treats will be served!
X-ALT-DESC;FMTTYPE=text/html:Join us in celebrating the new shuttle for commuters\, bringing them from Fridley to local major employers!&nbsp\;<br />\nShuttle Bus Tours will be given at 7:30 am<br />\n<br />\nCoffee and treats will be served!
LOCATION:The Fridley Northstar Train Station (East Lot) 6050 Main St. Fridley\, MN 55432
UID:e.380.176740
SEQUENCE:3
DTSTAMP:20260421T105928Z
URL:http://members.metronorthchamber.org/events/details/ribbon-cutting-anoka-county-commute-solution-176740
END:VEVENT

END:VCALENDAR
