BEGIN:VCALENDAR
VERSION:2.0
PRODID:-//ChamberMaster//Event Calendar 2.0//EN
METHOD:PUBLISH
X-PUBLISHED-TTL:P3D
REFRESH-INTERVAL:P3D
CALSCALE:GREGORIAN
BEGIN:VEVENT
DTSTART:20171130T220000Z
DTEND:20171130T230000Z
X-MICROSOFT-CDO-ALLDAYEVENT:FALSE
SUMMARY:Ribbon Cutting and Holiday Open House - Iceberg Web Design
DESCRIPTION:Holiday Open House PLUS Ribbon Cutting to celebrate new office location!\n\n\n\nPlease join us for an evening of appetizers\, drinks\, games\, and holiday merriment. Play a game of pool\, toss some darts\, and enter your business in a door prize drawing. Iceberg Web Design and businesses on the second floor look forward to meeting you!
X-ALT-DESC;FMTTYPE=text/html:Holiday Open House PLUS Ribbon Cutting to celebrate new office location!<br />\n<br />\nPlease join us for an evening of appetizers\, drinks\, games\, and holiday merriment. Play a game of pool\, toss some darts\, and enter your business in a door prize drawing. Iceberg Web Design and businesses on the second floor look forward to meeting you!
LOCATION:Iceberg Web Design 201 Jackson Street\, Suite 201 Anoka\, MN 55303
UID:e.380.179207
SEQUENCE:3
DTSTAMP:20260421T071117Z
URL:http://members.metronorthchamber.org/events/details/ribbon-cutting-and-holiday-open-house-iceberg-web-design-179207
END:VEVENT

END:VCALENDAR
