BEGIN:VCALENDAR
VERSION:2.0
PRODID:-//ChamberMaster//Event Calendar 2.0//EN
METHOD:PUBLISH
X-PUBLISHED-TTL:P3D
REFRESH-INTERVAL:P3D
CALSCALE:GREGORIAN
BEGIN:VEVENT
DTSTART:20180623T171500Z
DTEND:20180623T174500Z
X-MICROSOFT-CDO-ALLDAYEVENT:FALSE
SUMMARY:Ribbon Cutting - Alloy Brewing
DESCRIPTION:Join us in celebrating Alloy Brewing's 1 year Anniversary!
X-ALT-DESC;FMTTYPE=text/html:Join us in celebrating Alloy Brewing&#39\;s 1 year Anniversary!
LOCATION:Alloy Brewing 2700 Coon Rapids Blvd NW Coon Rapids
UID:e.380.185332
SEQUENCE:3
DTSTAMP:20260420T200109Z
URL:http://members.metronorthchamber.org/events/details/ribbon-cutting-alloy-brewing-185332
END:VEVENT

END:VCALENDAR
