BEGIN:VCALENDAR
VERSION:2.0
PRODID:-//ChamberMaster//Event Calendar 2.0//EN
METHOD:PUBLISH
X-PUBLISHED-TTL:P3D
REFRESH-INTERVAL:P3D
CALSCALE:GREGORIAN
BEGIN:VEVENT
DTSTART:20180602T164500Z
DTEND:20180602T171500Z
X-MICROSOFT-CDO-ALLDAYEVENT:FALSE
SUMMARY:Ribbon Cutting - All About Yarn
DESCRIPTION:Join us in Welcoming All About Yarn to the Chamber!
X-ALT-DESC;FMTTYPE=text/html:Join us in Welcoming All About Yarn to the Chamber!
LOCATION:All About Yarn 455 - 99th Ave NW #180 Coon Rapids\, MN 55433
UID:e.380.184857
SEQUENCE:3
DTSTAMP:20260420T200147Z
URL:http://members.metronorthchamber.org/events/details/ribbon-cutting-all-about-yarn-184857
END:VEVENT

END:VCALENDAR
