BEGIN:VCALENDAR
VERSION:2.0
PRODID:-//ChamberMaster//Event Calendar 2.0//EN
METHOD:PUBLISH
X-PUBLISHED-TTL:P3D
REFRESH-INTERVAL:P3D
CALSCALE:GREGORIAN
BEGIN:VEVENT
DTSTART:20180619T164500Z
DTEND:20180619T171500Z
X-MICROSOFT-CDO-ALLDAYEVENT:FALSE
SUMMARY:Ribbon Cutting - Accurate HomeCare - Otsego
DESCRIPTION:Join us in Welcoming Accurate HomeCare to the Chamber!\n\nRefreshments and goodie bags for attendees.
X-ALT-DESC;FMTTYPE=text/html:Join us in Welcoming Accurate HomeCare to the Chamber!<br />\nRefreshments and goodie bags for attendees.
LOCATION:Accurate HomeCare 9000 Quantrelle Ave\, Otsego\, MN 55330
UID:e.380.185333
SEQUENCE:3
DTSTAMP:20260420T200604Z
URL:http://members.metronorthchamber.org/events/details/ribbon-cutting-accurate-homecare-otsego-185333
END:VEVENT

END:VCALENDAR
