BEGIN:VCALENDAR
VERSION:2.0
PRODID:-//ChamberMaster//Event Calendar 2.0//EN
METHOD:PUBLISH
X-PUBLISHED-TTL:P3D
REFRESH-INTERVAL:P3D
CALSCALE:GREGORIAN
BEGIN:VEVENT
DTSTART:20120425T170000Z
DTEND:20120425T180000Z
X-MICROSOFT-CDO-ALLDAYEVENT:FALSE
SUMMARY:Ribbon Cutting - ABC Supply Company
DESCRIPTION:Come celebrate the Ribbon Cutting of ABC Supply Company in Coon Rapids!
X-ALT-DESC;FMTTYPE=text/html:Come celebrate the Ribbon Cutting of ABC Supply Company in Coon Rapids!
LOCATION:10141 Woodcrest Dr.\, Coon Rapids\, MN 55433
UID:e.380.143787
SEQUENCE:3
DTSTAMP:20260425T211227Z
URL:http://members.metronorthchamber.org/events/details/ribbon-cutting-abc-supply-company-04-25-2012-143787
END:VEVENT

END:VCALENDAR
