BEGIN:VCALENDAR
VERSION:2.0
PRODID:-//ChamberMaster//Event Calendar 2.0//EN
METHOD:PUBLISH
X-PUBLISHED-TTL:P3D
REFRESH-INTERVAL:P3D
CALSCALE:GREGORIAN
BEGIN:VEVENT
DTSTART:20141023T210000Z
DTEND:20141024T000000Z
X-MICROSOFT-CDO-ALLDAYEVENT:FALSE
SUMMARY:REVITALIZING EXPO
DESCRIPTION:15+ Exhibitors....Free Demos.....Grand Prize.....Bring a friend Drawings.....Special Sign-Up Package's....
X-ALT-DESC;FMTTYPE=text/html:15+ Exhibitors....Free Demos.....Grand Prize.....Bring a friend Drawings.....Special Sign-Up Package&#39\;s....
LOCATION:Curves 1033 109th Ave NE Blaine MN 55434
UID:e.380.151686
SEQUENCE:3
DTSTAMP:20260423T192046Z
URL:http://members.metronorthchamber.org/events/details/revitalizing-expo-10-23-2014-151686
END:VEVENT

END:VCALENDAR
