BEGIN:VCALENDAR
VERSION:2.0
PRODID:-//ChamberMaster//Event Calendar 2.0//EN
METHOD:PUBLISH
X-PUBLISHED-TTL:P3D
REFRESH-INTERVAL:P3D
CALSCALE:GREGORIAN
BEGIN:VEVENT
DTSTART:20180522T233000Z
DTEND:20180523T010000Z
X-MICROSOFT-CDO-ALLDAYEVENT:FALSE
SUMMARY:Retirement Income Planning & Family Aging Education
DESCRIPTION:Join Lisa Skordahl\, Financial Advisor\, First Signature Services & Steve Griffiths\, Executive Director\, Impact Services as we take an informative look at Retirement/Aging & its effect on both the aging & the caregiver. Helpful tips on conversation starters & ideas as you create your unique family plan. Come with questions!\n\n\n\nThere will be treats!
X-ALT-DESC;FMTTYPE=text/html:<span style="font-family:calibri\,sans-serif\; font-size:10pt">Join Lisa Skordahl\,&nbsp\;Financial Advisor\, First Signature Services &amp\; Steve Griffiths\,&nbsp\;Executive Director\, Impact Services&nbsp\;as we take an&nbsp\;informative look at Retirement/Aging&nbsp\;&amp\; its effect on both the aging &amp\; the caregiver. Helpful tips on conversation starters &amp\; ideas as you create your unique family plan. Come with questions!<br />\n<br />\nThere will be treats!</span>
LOCATION:River North Senior Apartments are located at 10940 Crooked Lake Blvd NW\, Coon Rapids\, MN. Adjacent to the Coon Rapids Ice Center at Coon Rapids Boulevard & Crooked Lake Boulevard\, just behind Walgreen's. We'll meet in the Great Room just off the main foyer.
UID:e.380.184832
SEQUENCE:3
DTSTAMP:20260420T231351Z
URL:http://members.metronorthchamber.org/events/details/retirement-income-planning-family-aging-education-184832
END:VEVENT

END:VCALENDAR
