BEGIN:VCALENDAR
VERSION:2.0
PRODID:-//ChamberMaster//Event Calendar 2.0//EN
METHOD:PUBLISH
X-PUBLISHED-TTL:P3D
REFRESH-INTERVAL:P3D
CALSCALE:GREGORIAN
BEGIN:VEVENT
DTSTART:20120724T230000Z
DTEND:20120725T003000Z
X-MICROSOFT-CDO-ALLDAYEVENT:FALSE
SUMMARY:Retirement and Investing in a Changed World
DESCRIPTION:The financial crisis and its aftershocks may have taken a toll on your retirement funds\, but there's still time to get back on track. However\, investing today is filled with paradoxes and it is important to anticipate the paradoxes of the future.  For example\, how have hedge funds been able to serve as a diversification enhancer and volatility stabilizer and what role do they play in an investor's portfolio?\n\n	It all starts with a strategic plan that reflects the new realities of today's financial landscape. Now's the time to make sound decisions that will help you grow the resources you need to last a \n\n	lifetime.\nJoin us for an in depth conversation: "Retirement and Investing in a changed world"\; a timely presentation that explores new opportunities and strategies that can help you prepare to and retire with confidence. \n\n\n\n\n\n\nHosted by\n\nJohn Stiepel\n\nFinancial Advisor\n\n\n\nGuest speakers\n\nMike Oleszkowicz\, CFP\, CPPC\n\nDirector\n\nUBS Financial Services Inc\n\n\n\nMichael T. Igoe\, CIMA\n\nDirector\n\nUBS Global Asset Management
X-ALT-DESC;FMTTYPE=text/html:<style type="text/css">\n</style>\n<p>\n	<span style="font-size: 11px\;"><span lang="EN" style="font-family: Arial\;">The financial crisis and its aftershocks may have taken a toll on your retirement funds\, but there&#39\;s still time to get back on track. However\, investing today is filled with paradoxes and it is important to anticipate the paradoxes of the future.<span>&nbsp\; </span>For example\, how have hedge funds been able to serve as a diversification enhancer and volatility stabilizer and what role do they play in an investor&#39\;s portfolio?</span></span></p>\n<p>\n	<span style="font-size: 11px\;"><span lang="EN" style="font-family: Arial\;">It all starts with a strategic plan that reflects the new realities of today&#39\;s financial landscape. Now&#39\;s the time to make sound decisions that will help you grow the resources you need to last a </span></span></p>\n<p>\n	<span style="font-size: 11px\;"><span lang="EN" style="font-family: Arial\;">lifetime.</span></span></p>\n<span style="font-size: 11px\;"><span lang="EN" style="font-family: Arial\;">Join</span></span><span style="font-size: 11px\;"><span lang="EN" style="font-family: Arial\;"> us for an in depth conversation: &quot\;<i>Retirement and Investing in a changed world&quot\;\; </i>a timely presentation that explores new opportunities and strategies that can help you prepare to and retire with confidence.</span><span lang="EN-US" new="" roman="" times="">&nbsp\;</span></span><br style="" />\n<span style="font-size: 11px\;">\n<style type="text/css">\n</style>\n<br />\n<strong><span lang="EN-US" style="font-family: Arial\;">Hosted by</span></strong><br />\n<span lang="EN-US" style="font-family: Arial\;">John Stiepel<br />\nFinancial Advisor<br />\n<br />\n<b>Guest speakers</b><br />\nMike Oleszkowicz\, CFP\, CPPC<br />\nDirector<br />\nUBS Financial Services Inc</span><br />\n<br />\n<span lang="EN-US" style="font-family: Arial\;">Michael T. Igoe\, CIMA</span><br />\n<span style="font-size: 11px\;"><span lang="EN-US" style="font-family: Arial\;">Director</span></span><br />\n<span style="font-size: 11px\;"><span lang="EN-US" style="font-family: Arial\;">UBS Global Asset Management</span></span></span><br />\n<br />\n<br style="" />\n
LOCATION:The Metropolitan Ballroom 5418 Wayzata Boulevard Golden Valley\, MN 55416
UID:e.380.145535
SEQUENCE:3
DTSTAMP:20260425T143240Z
URL:http://members.metronorthchamber.org/events/details/retirement-and-investing-in-a-changed-world-07-24-2012-145535
END:VEVENT

END:VCALENDAR
