BEGIN:VCALENDAR
VERSION:2.0
PRODID:-//ChamberMaster//Event Calendar 2.0//EN
METHOD:PUBLISH
X-PUBLISHED-TTL:P3D
REFRESH-INTERVAL:P3D
CALSCALE:GREGORIAN
BEGIN:VEVENT
DTSTART:20150227T133000Z
DTEND:20150227T150000Z
X-MICROSOFT-CDO-ALLDAYEVENT:FALSE
SUMMARY:Retail Fraud And Scams: 2015 Update For Businesses And Law Enforcement
DESCRIPTION:The criminals are creative. From Facebook order-taking to sophisticated financial crimes\, 2015 is shaping up to be another year where 9 out of ten Minnesota retailers are victims of organized retail crime (ORC). Across the country\, criminal activities cost retailers $30 billion a year and drive up consumer prices.\n\n\n\nGet on top of today's crime trends at the Minnesota Retailers Association "2015 Crime Update" featuring:\n\n\n\n- Supervisory Special Agent Jeffrey K. Van Nest with the Minneapolis Division Federal Bureau of Investigation\; and\n\n\n\n-  Vice Chairman Alan Tague with the National Retail Federation Loss Prevention Advisory Council and vice president of loss control at Gander Mountain Company.\n\n\n\nRetail Fraud And Scams: 2015 Crime Update For Businesses And Law Enforcement\n\nfeaturing Jeffrey K. Van Nest\, FBI Supervisory Special Agent \,\n\nwith special guest Alan Tague\, NRF Loss Prevention Council Vice Chairman/Vice President of Loss Control at Gander Mountain\n\nFriday\, February 27\, 2015\n\n7:30 - 9:00 a.m.\n\nDoubletree Hotel by Hilton - St. Louis Park\n\n$25/includes breakfast   only $12.50 for chamber members\n\n\n\nClick Here to register
X-ALT-DESC;FMTTYPE=text/html:<span style="color:black">The criminals are creative. From Facebook order-taking to sophisticated financial crimes\, 2015 is shaping up to be another year where 9 out of ten Minnesota retailers are victims of organized retail crime (ORC). Across the country\, criminal activities cost retailers $30 billion a year and drive up consumer prices.<br />\n<br />\nGet on top of today&#39\;s crime trends at the Minnesota Retailers Association &quot\;2015 Crime Update&quot\; featuring:<br />\n<br />\n- <em><span style="font-family:calibri\,sans-serif">Supervisory Special Agent Jeffrey K. Van Nest with the Minneapolis Division Federal Bureau of Investigation\;</span></em> and<br />\n<br />\n<em><span style="font-family:calibri\,sans-serif">-&nbsp\; Vice Chairman Alan Tague with the National Retail Federation Loss Prevention Advisory Council and vice president of loss control at Gander Mountain Company.</span></em></span><br />\n<br />\n<strong><span style="color:black"><span style="font-family:calibri\,sans-serif">Retail Fraud And Scams: 2015 Crime Update For Businesses And Law Enforcement</span></span></strong><br />\n<span style="color:black"><em><span style="font-family:calibri\,sans-serif">featuring Jeffrey K. Van Nest\, FBI Supervisory Special Agent </span></em>\,<br />\n<em><span style="font-family:calibri\,sans-serif">with special guest Alan Tague\, NRF Loss Prevention Council Vice Chairman/Vice President of Loss Control at Gander Mountain</span></em><br />\nFriday\, February 27\, 2015<br />\n7:30 - 9:00 a.m.<br />\nDoubletree Hotel by Hilton - St. Louis Park<br />\n$25/includes breakfast</span><span style="color:#1F497D"> &ndash\; </span><span style="color:black">only $12.50 for chamber members<br />\n<br />\nClick <a href="https://mnretail.chambermaster.com/eventregistration/register/486">Here </a>to register</span><br />\n<br />\n&nbsp\;
LOCATION:Doubletree Hotel by Hilton - St. Louis Park 1500 Park Place Boulevard St. Louis Park\, MN 55416 Highway 100 and I-394\, West End Area
UID:e.380.156909
SEQUENCE:3
DTSTAMP:20260423T131132Z
URL:http://members.metronorthchamber.org/events/details/retail-fraud-and-scams-2015-update-for-businesses-and-law-enforcement-02-27-2015-156909
END:VEVENT

END:VCALENDAR
