BEGIN:VCALENDAR
VERSION:2.0
PRODID:-//ChamberMaster//Event Calendar 2.0//EN
METHOD:PUBLISH
X-PUBLISHED-TTL:P3D
REFRESH-INTERVAL:P3D
CALSCALE:GREGORIAN
BEGIN:VEVENT
DTSTART:20181022T233000Z
DTEND:20181023T013000Z
X-MICROSOFT-CDO-ALLDAYEVENT:FALSE
SUMMARY:RESTART Sugar Detox
DESCRIPTION:This 5 week RESTART program is a simple\, powerful way to give your body a vacation from having to process toxins like sugar.  With a 3 week sugar detox built right in\, the program focuses on how to use Real Food to boost your energy and cut sugar and carb cravings. Part nutritional education\, part sugar detox\, part support group. An empowering combination. Space is limited.
X-ALT-DESC;FMTTYPE=text/html:This 5 week RESTART program is a simple\, powerful way to give your body a vacation from having to process toxins like sugar.&nbsp\; With a 3 week sugar detox built right in\, the program focuses on how to use Real Food to boost your energy and cut sugar and carb cravings. Part nutritional education\, part sugar detox\, part support group. An empowering combination. Space is limited.
LOCATION:Total Health & Healing 11417 NW Hanson Blvd Suite 101 Coon Rapids\, MN 55433
UID:e.380.186918
SEQUENCE:3
DTSTAMP:20260420T140355Z
URL:http://members.metronorthchamber.org/events/details/restart-sugar-detox-10-22-2018-186918
END:VEVENT

END:VCALENDAR
