BEGIN:VCALENDAR
VERSION:2.0
PRODID:-//ChamberMaster//Event Calendar 2.0//EN
METHOD:PUBLISH
X-PUBLISHED-TTL:P3D
REFRESH-INTERVAL:P3D
CALSCALE:GREGORIAN
BEGIN:VEVENT
DTSTART;VALUE=DATE:20120604
DTEND;VALUE=DATE:20120609
TRANSP:TRANSPARENT
X-MICROSOFT-CDO-ALLDAYEVENT:TRUE
SUMMARY:Relieve Medical Supply Grand Opening Celebration
DESCRIPTION:Relieve Medical celebrates its Grand Opening in Coon Rapids with sales and specials.  The ribbon cutting will be held at 3 o'clock on 6/6.\n\n\n\nThe event will run from June 4th through June 8th\, with special events and promotions during that week. \n\n\n\nEnter our Grand Prize drawing for a chance to win a Garnet Mobility Scooter and many other prizes!\n\n\n\nContact Relieve Medical Supply with any questions at 763-780-3002.\n\nWEB:  www.relievemedicalsupply.com\n\nFACEBOOK:  RelieveMedicalSupply\n\nTWITTER:  @Relieve_Medical
X-ALT-DESC;FMTTYPE=text/html:Relieve Medical celebrates its Grand Opening in Coon Rapids with sales and specials.&nbsp\; The&nbsp\;ribbon cutting will be held at 3 o&#39\;clock on&nbsp\;6/6.<br />\n<br />\nThe event will run from June 4th through June 8th\, with special events and promotions during that week.&nbsp\;<br />\n<br />\nEnter our Grand Prize drawing for a chance to win&nbsp\;a Garnet Mobility Scooter and many other prizes!<br />\n<br />\nContact Relieve Medical Supply with any questions at 763-780-3002.<br />\nWEB:&nbsp\; www.relievemedicalsupply.com<br />\nFACEBOOK:&nbsp\; RelieveMedicalSupply<br />\nTWITTER:&nbsp\; @Relieve_Medical<br />\n<br />\n<br />\n
LOCATION:Relieve Medical Supply\, 11490 Hanson Blvd NW\, Coon Rapids\, MN 55433
UID:e.380.144715
SEQUENCE:3
DTSTAMP:20260425T162011Z
URL:http://members.metronorthchamber.org/events/details/relieve-medical-supply-grand-opening-celebration-06-04-2012-144715
END:VEVENT

END:VCALENDAR
