BEGIN:VCALENDAR
VERSION:2.0
PRODID:-//ChamberMaster//Event Calendar 2.0//EN
METHOD:PUBLISH
X-PUBLISHED-TTL:P3D
REFRESH-INTERVAL:P3D
CALSCALE:GREGORIAN
BEGIN:VEVENT
DTSTART:20190315T173000Z
DTEND:20190315T183000Z
X-MICROSOFT-CDO-ALLDAYEVENT:FALSE
SUMMARY:Relaxation Meditation
DESCRIPTION:Dr. Shanna will be leading a Meditation class. Gentle breathing and grounding guided meditations for relaxation and healing. Spend the hour learning how to quiet the mind\, creating space for peace & clarity. Schedule on MindBody Online or sign up at the front desk. Cost is $10 paid to Total Health & Healing Center.\n\n\n\nBring mat\, blanket\, & pillow if you can.\n\n\n\nRSVP online here
X-ALT-DESC;FMTTYPE=text/html:<span style="color:rgb(29\, 33\, 41)\; font-family:helvetica\,arial\,sans-serif\; font-size:14px">Dr. Shanna will be leading a Meditation class. Gentle breathing and grounding guided meditations for relaxation and healing. Spend the hour learning how to quiet the mind\, creating space for peace &amp\; clarity. Schedule on MindBody Online or sign up at the front desk. Cost is $10 paid to Total Health &amp\; Healing Center.</span><br />\n<br />\n<span style="color:rgb(29\, 33\, 41)\; font-family:helvetica\,arial\,sans-serif\; font-size:14px">Bring mat\, blanket\, &amp\; pillow if you can.<br />\n<br />\nRSVP online <a href="https://clients.mindbodyonline.com/ASP/res_a.asp?tg=31&amp\;classId=46&amp\;classDate=3%2F15%2F2019&amp\;clsLoc=1&amp\;fbclid=IwAR2ER1STN8uLMRUwv3WlxHKlkkvpfP2qLXpMnV9tEm-ke0uH2xu2fg2pjfk">here</a></span>
LOCATION:Total Health & Healing Center 11417 NW Hanson Blvd. Suite 101 -- in the studio space Coon Rapids\, MN 55433
UID:e.380.188625
SEQUENCE:3
DTSTAMP:20260420T054843Z
URL:http://members.metronorthchamber.org/events/details/relaxation-meditation-188625
END:VEVENT

END:VCALENDAR
