BEGIN:VCALENDAR
VERSION:2.0
PRODID:-//ChamberMaster//Event Calendar 2.0//EN
METHOD:PUBLISH
X-PUBLISHED-TTL:P3D
REFRESH-INTERVAL:P3D
CALSCALE:GREGORIAN
BEGIN:VEVENT
DTSTART:20140912T000000Z
DTEND:20140912T020000Z
X-MICROSOFT-CDO-ALLDAYEVENT:FALSE
SUMMARY:Rejuvenate with a spa facial and indulge in a new look!
DESCRIPTION:Coffee and Make-Overs with Karen Hofer Mary Kay Sr. Sales Director
X-ALT-DESC;FMTTYPE=text/html:Coffee and Make-Overs with Karen Hofer Mary Kay Sr. Sales Director
LOCATION:Karen's Mary Kay Studio
UID:e.380.151594
SEQUENCE:3
DTSTAMP:20260423T210257Z
URL:http://members.metronorthchamber.org/events/details/rejuvenate-with-a-spa-facial-and-indulge-in-a-new-look-09-11-2014-151594
END:VEVENT

END:VCALENDAR
