BEGIN:VCALENDAR
VERSION:2.0
PRODID:-//ChamberMaster//Event Calendar 2.0//EN
METHOD:PUBLISH
X-PUBLISHED-TTL:P3D
REFRESH-INTERVAL:P3D
CALSCALE:GREGORIAN
BEGIN:VEVENT
DTSTART:20140820T220000Z
DTEND:20140821T000000Z
X-MICROSOFT-CDO-ALLDAYEVENT:FALSE
SUMMARY:Realtor Social *Everyone Welcome*
DESCRIPTION:*Everyone Welcome!*\n\n-Drinks and Hor D' Oeauvres Provided\n\n-Many chances to win fabulous cash giveaways!\n\n-Event Hosted by Greater Midwest Realty
X-ALT-DESC;FMTTYPE=text/html:&nbsp\; *Everyone Welcome!*<br />\n-Drinks and Hor D&#39\; Oeauvres Provided<br />\n-Many chances to win fabulous cash giveaways!<br />\n-Event Hosted by Greater Midwest Realty
LOCATION:The Tavern Grill 10950 Club west Pkwy Blaine\, MN
UID:e.380.151536
SEQUENCE:3
DTSTAMP:20260423T222400Z
URL:http://members.metronorthchamber.org/events/details/realtor-social-everyone-welcome-08-20-2014-151536
END:VEVENT

END:VCALENDAR
