BEGIN:VCALENDAR
VERSION:2.0
PRODID:-//ChamberMaster//Event Calendar 2.0//EN
METHOD:PUBLISH
X-PUBLISHED-TTL:P3D
REFRESH-INTERVAL:P3D
CALSCALE:GREGORIAN
BEGIN:VEVENT
DTSTART:20170826T223000Z
DTEND:20170827T010000Z
X-MICROSOFT-CDO-ALLDAYEVENT:FALSE
SUMMARY:Re- Grand Opening
DESCRIPTION:MINT Salon & Spa invites you to come see our newly renovated space. Enjoy chair massages\, makeup touch ups\, Aveda hand manipulations\, Apricot Lane shopping\, refreshments\, giveaways and more!!\n\n\n\nhttps://www.facebook.com/mintsalonmn/?ref=bookmarks
X-ALT-DESC;FMTTYPE=text/html:MINT Salon &amp\; Spa invites you to come see our newly renovated space. Enjoy chair massages\, makeup touch ups\, Aveda hand manipulations\, Apricot Lane shopping\, refreshments\, giveaways and more!!<br />\n<br />\n<a href="http://www.facebook.com/mintsalonmn/?ref=bookmarks">https://www.facebook.com/mintsalonmn/?ref=bookmarks</a>
LOCATION:MINT Salon & Spa 43 Central Street Circle Pines 55014
UID:e.380.176704
SEQUENCE:3
DTSTAMP:20260421T123906Z
URL:http://members.metronorthchamber.org/events/details/re-grand-opening-176704
END:VEVENT

END:VCALENDAR
