BEGIN:VCALENDAR
VERSION:2.0
PRODID:-//ChamberMaster//Event Calendar 2.0//EN
METHOD:PUBLISH
X-PUBLISHED-TTL:P3D
REFRESH-INTERVAL:P3D
CALSCALE:GREGORIAN
BEGIN:VEVENT
DTSTART:20120821T170000Z
DTEND:20120822T000000Z
X-MICROSOFT-CDO-ALLDAYEVENT:FALSE
SUMMARY:Ramsey 2012 EDA Business Appreciation Golf Tournament
DESCRIPTION:The annual EDA Business Appreciation Golf Tournament is an opportunity for local businesses to spend an afternoon together playing golf at The Links at Northfork\, enjoy a few laughs with friends and share a hearty meal from Wells Catering.\n\n\n\nSimilar to years past\, door prizes will be given to every golfer. Donated prizes from local businesses will be given out to participants at the conclusion of the tournament\, a number of golfing contests and drawings will take place and the 2012 Ramsey Business of the Year Award will be presented.\n\n\n\nClick here for a copy of the registration form. Please note\, registration is on a first come first serve basis.\n\n\n\nIf your business is interested\, opportunities exist for sponsorship of a hole(s)\, independent contests and/or donation of raffle prizes.\n\n\n\nPlease contact Patrick Brama with questions: 763-433-9903 or pbrama@ci.ramsey.mn.us
X-ALT-DESC;FMTTYPE=text/html:<span style="font-size:11px\;"><span style="font-family: tahoma\;">The annual EDA Business Appreciation Golf Tournament is an opportunity for local businesses to spend an afternoon together playing golf at The Links at Northfork\, enjoy a few laughs with friends and share a hearty meal from Wells Catering.<br />\n<br />\nSimilar to years past\, door prizes will be given to every golfer. Donated prizes from local businesses will be given out to participants at the conclusion of the tournament\, a number of golfing contests and drawings will take place and the 2012 Ramsey Business of the Year Award will be presented.<br />\n<br />\nClick <a href="http://cloud.chambermaster.com/userfiles/UserFiles/chambers/380/File/CityGolfInvite2012-Ramsey.pdf">here</a> for a copy of the registration form. Please note\, registration is on a first come first serve basis.<br />\n<br />\nIf your business is interested\, opportunities exist for sponsorship of a hole(s)\, independent contests and/or donation of raffle prizes.<br />\n<br />\nPlease contact Patrick Brama with questions: 763-433-9903 or <a href="mailto:pbrama@ci.ramsey.mn.us?subject=Ramsey%20EDA%20Business%20Appreciation%20Golf%20Tournament">pbrama@ci.ramsey.mn.us</a></span></span><br />\n
LOCATION:The Links at Northfork (9333 Alpine Drive NW)
UID:e.380.146187
SEQUENCE:3
DTSTAMP:20260425T125556Z
URL:http://members.metronorthchamber.org/events/details/ramsey-2012-eda-business-appreciation-golf-tournament-08-21-2012-146187
END:VEVENT

END:VCALENDAR
