BEGIN:VCALENDAR
VERSION:2.0
PRODID:-//ChamberMaster//Event Calendar 2.0//EN
METHOD:PUBLISH
X-PUBLISHED-TTL:P3D
REFRESH-INTERVAL:P3D
CALSCALE:GREGORIAN
BEGIN:VEVENT
DTSTART:20190820T193000Z
DTEND:20190820T203000Z
X-MICROSOFT-CDO-ALLDAYEVENT:FALSE
SUMMARY:Raise Money for Alex's Lemonade Stand - Streamworks
DESCRIPTION:Come and Join Streamworks and Applebee's on National Lemonade Day.   - Tuesday\, August 20th\n\n\n\nStreamworks is partnering with Applebee's to fight childhood cancer\, one cup at a time. \n\n \n\nPurchase an ice-cold lemonade and all of the proceeds will go the Alex?s Lemonade Stand Foundation.\nAlex?s Lemonade Stand Foundation (ALSF) is changing the lives of children with cancer by funding impactful research\, raising awareness\, supporting families and empowering everyone to help cure childhood cancer.  For more information.  https://www.alexslemonade.org/
X-ALT-DESC;FMTTYPE=text/html:<span style="font-family:arial\,helvetica\,sans-serif"><strong><span style="font-size:20px">Come and Join Streamworks and Applebee&#39\;s on National Lemonade Day.&nbsp\; &nbsp\;- Tuesday\, August 20th</span></strong><br />\n<br />\n<span style="font-size:16px"><span style="color:rgb(0\, 0\, 0)">Streamworks is partnering with Applebee&#39\;s to fight childhood cancer\, one cup at a time.&nbsp\;<br />\n&nbsp\;<br />\nPurchase an ice-cold lemonade and all of the proceeds will go the Alex?s Lemonade Stand Foundation.</span></span></span>\n<p><span style="font-size:12px"><span style="font-family:arial\,helvetica\,sans-serif"><span style="background-color:rgb(225\, 244\, 247)\; color:rgb(34\, 34\, 34)">Alex?s Lemonade Stand Foundation (ALSF) is changing the lives of children with cancer by funding impactful research\, raising awareness\, supporting families and empowering everyone to help cure childhood cancer.&nbsp\;&nbsp\;</span></span></span><span style="font-family:arial\,helvetica\,sans-serif\; font-size:12px">For more information.&nbsp\;</span><span style="font-family:arial\,helvetica\,sans-serif\; font-size:12px">&nbsp\;</span><a href="https://www.alexslemonade.org/" style="font-family: arial\, helvetica\, sans-serif\; font-size: 12px\; color: rgb(149\, 79\, 114)\;">https://www.alexslemonade.org/</a></p>\n
LOCATION:Streamworks 3640 Pheasant Ridge Drive Blaine\, MN 55449
UID:e.380.190975
SEQUENCE:3
DTSTAMP:20260419T213131Z
URL:http://members.metronorthchamber.org/events/details/raise-money-for-alex-s-lemonade-stand-streamworks-190975
END:VEVENT

END:VCALENDAR
