BEGIN:VCALENDAR
VERSION:2.0
PRODID:-//ChamberMaster//Event Calendar 2.0//EN
METHOD:PUBLISH
X-PUBLISHED-TTL:P3D
REFRESH-INTERVAL:P3D
CALSCALE:GREGORIAN
BEGIN:VEVENT
DTSTART;VALUE=DATE:20170516
DTEND;VALUE=DATE:20170517
TRANSP:TRANSPARENT
X-MICROSOFT-CDO-ALLDAYEVENT:TRUE
SUMMARY:Raindrop Class & Vita Flex Training
DESCRIPTION:This class is free! Jess will be teaching us to fulfill her certification for CARE. \n\n\n\nYou will need to bring:\n\nA massage table\, 1 per 2 people. \n\nTwo towels\n\nOne hand towel\n\nA robe on Raindrop day (day two).\n\nRaindrop kit/oils\n\nWhite Angelica \n\nAny additional oils (see below)\n\n\n\nWear comfortable clothing both days. \n\n\n\nFriday 6pm-9pm Day 1: Jess will teach us the 13 Vitaflex points. We will use either Helichrysium\, Purification\, Geranium\, or Ylang Ylang on certain points (everyone is different so it's a personal preference).\n\n\n\nSaturday 9am-5pm Day 2: Jess will demonstrate a raindrop\, we will take a break\, then everyone will give and receive a raindrop. \n\n\n\nBring your own oils: Valor\, Aroma Siez\, oregano\, thyme\, basil\, wintergreen\, marjoram\, cypress\, peppermint. V-6 and Orthoease. If someone doesn't have the oils you can pay $25 to use Jess' oils. \n\n\n\nIf you're feeling like you need additional support\, emotional\, physical\, etc bring oils that support that system for this (you choose the additional oil). We can do Zyto Scans on Friday too. \n\n\n\nPlease feel free to bring a lunch or grab a lunch at a near by restaurant!\n\nAddress will be emailed with event reminder. Choose a date and Register here
X-ALT-DESC;FMTTYPE=text/html:<p>This class is free! Jess will be teaching us to fulfill her certification for CARE.&nbsp\;<br />\n<br />\nYou will need to bring:<br />\nA massage table\, 1 per 2 people.&nbsp\;<br />\nTwo towels<br />\nOne hand towel<br />\nA robe on Raindrop day (day two).<br />\nRaindrop kit/oils<br />\nWhite Angelica&nbsp\;<br />\nAny additional oils (see below)<br />\n<br />\nWear comfortable clothing both days.&nbsp\;<br />\n<br />\nFriday 6pm-9pm Day 1: Jess will teach us the 13 Vitaflex points. We will use either Helichrysium\, Purification\, Geranium\, or Ylang Ylang on certain points (everyone is different so it&#39\;s a personal preference).<br />\n<br />\nSaturday 9am-5pm Day 2: Jess will demonstrate a raindrop\, we will take a break\, then everyone will give and receive a raindrop.&nbsp\;<br />\n<br />\nBring your own oils: Valor\, Aroma Siez\, oregano\, thyme\, basil\, wintergreen\, marjoram\, cypress\, peppermint. V-6 and Orthoease. If someone doesn&#39\;t have the oils you can pay $25 to use Jess&#39\; oils.&nbsp\;<br />\n<br />\nIf you&#39\;re feeling like you need additional support\, emotional\, physical\, etc bring oils that support that system for this (you choose the additional oil). We can do Zyto Scans on Friday too.&nbsp\;<br />\n<br />\nPlease feel free to bring a lunch or grab a lunch at a near by restaurant!</p>\n\n<p>Address will be emailed with event reminder. <strong><u><a href="https://www.eventbrite.com/e/raindrop-vita-flex-training-tickets-33907779080">Choose a date and Register here</a></u></strong></p>\n
LOCATION:Anoka Anoka\, MN
UID:e.380.175011
SEQUENCE:3
DTSTAMP:20260421T152251Z
URL:http://members.metronorthchamber.org/events/details/raindrop-class-vita-flex-training-175011
END:VEVENT

END:VCALENDAR
