BEGIN:VCALENDAR
VERSION:2.0
PRODID:-//ChamberMaster//Event Calendar 2.0//EN
METHOD:PUBLISH
X-PUBLISHED-TTL:P3D
REFRESH-INTERVAL:P3D
CALSCALE:GREGORIAN
BEGIN:VEVENT
DTSTART:20190401T223000Z
DTEND:20190401T233000Z
X-MICROSOFT-CDO-ALLDAYEVENT:FALSE
SUMMARY:Qigong Meditation
DESCRIPTION:Join Melissa for this 60-minute meditation class.\n\n\n\nQi-gong meditation is based on Chinese Taoist philosophy\, Traditional Chinese Medicine\, and it is used in ancient martial arts. You use visualization\, sound\, and breathing to manipulate energies in the body while seated in a chair. Moving meditation while standing will also be incorporated. All levels welcome! No prior experience with meditation needed.\n\n\n\nLike in other meditation\, it has a focus on quieting the mind and bringing the thoughts into focus without force. The difference between qigong meditation and normal meditation is the focus on moving and harnessing energy in the body.\n\n\n\nClass is $10 per participant.
X-ALT-DESC;FMTTYPE=text/html:<span style="color:rgb(29\, 33\, 41)\; font-family:helvetica\,arial\,sans-serif\; font-size:14px">Join Melissa for this 60-minute meditation class.</span><br />\n<br />\n<span style="color:rgb(29\, 33\, 41)\; font-family:helvetica\,arial\,sans-serif\; font-size:14px">Qi-gong meditation is based on Chinese Taoist philosophy\, Traditional Chinese Medicine\, and it is used in ancient martial arts. You use visualization\, sound\, and breathing to manipulate energies in the body while seated in a chair. Moving meditation while standing will also be incorporated. All levels welcome! No prior experience with meditation needed.</span><br />\n<br />\n<span style="color:rgb(29\, 33\, 41)\; font-family:helvetica\,arial\,sans-serif\; font-size:14px">Like in other meditation\, it has a focus on quieting the mind and bringing the thoughts into focus without force. The difference between qigong meditation and normal meditation is the focus on moving and harnessing energy in the body.</span><br />\n<br />\n<span style="color:rgb(29\, 33\, 41)\; font-family:helvetica\,arial\,sans-serif\; font-size:14px">Class is $10 per participant.</span>
LOCATION:Total Health & Healing Center Studio space 11417 NW Hanson Blvd Coon Rapids\, MN 55433
UID:e.380.188840
SEQUENCE:3
DTSTAMP:20260420T041418Z
URL:http://members.metronorthchamber.org/events/details/qigong-meditation-188840
END:VEVENT

END:VCALENDAR
