BEGIN:VCALENDAR
VERSION:2.0
PRODID:-//ChamberMaster//Event Calendar 2.0//EN
METHOD:PUBLISH
X-PUBLISHED-TTL:P3D
REFRESH-INTERVAL:P3D
CALSCALE:GREGORIAN
BEGIN:VEVENT
DTSTART:20180417T213000Z
DTEND:20180417T230000Z
X-MICROSOFT-CDO-ALLDAYEVENT:FALSE
SUMMARY:Q2 Welcome Reception
DESCRIPTION:For any late January\, February\, March and early April New Members.
X-ALT-DESC;FMTTYPE=text/html:For any late January\, February\, March and early April New Members.
LOCATION:Outback Steakhouse 8880 Springbrook Drive Coon Rapids 55433
UID:e.380.179508
SEQUENCE:3
DTSTAMP:20260420T230623Z
URL:http://members.metronorthchamber.org/events/details/q2-welcome-reception-179508
END:VEVENT

END:VCALENDAR
