BEGIN:VCALENDAR
VERSION:2.0
PRODID:-//ChamberMaster//Event Calendar 2.0//EN
METHOD:PUBLISH
X-PUBLISHED-TTL:P3D
REFRESH-INTERVAL:P3D
CALSCALE:GREGORIAN
BEGIN:VEVENT
DTSTART:20181221T013000Z
DTEND:20181221T033000Z
X-MICROSOFT-CDO-ALLDAYEVENT:FALSE
SUMMARY:Purse Bingo at Clive's Roadhouse
DESCRIPTION:Get your dabber ready! Clive's Roadhouse in Blaine will be hosting Purse Bingo with Blaine Youth Hockey. \n\nWe will be serving happy hour glasses of house wine during the games. \n\nThis is a first-come\, first seated event\, no reservations.\n\n\n\nWe will continue the excitement the 3rd Tuesday of every month
X-ALT-DESC;FMTTYPE=text/html:Get your dabber ready! Clive&#39\;s Roadhouse in Blaine will be hosting Purse Bingo with Blaine Youth Hockey.&nbsp\;<br />\nWe will be serving happy hour glasses of house wine during the games.&nbsp\;<br />\nThis is a first-come\, first seated event\, no reservations.<br />\n<br />\nWe will continue the excitement the 3rd Tuesday of every month
LOCATION:Clive's Roadhouse (Blaine) 10400 Baltimore St NE\, Ste 200\, Blaine\, Minnesota 55449
UID:e.380.187481
SEQUENCE:3
DTSTAMP:20260420T121555Z
URL:http://members.metronorthchamber.org/events/details/purse-bingo-at-clive-s-roadhouse-187481
END:VEVENT

END:VCALENDAR
