BEGIN:VCALENDAR
VERSION:2.0
PRODID:-//ChamberMaster//Event Calendar 2.0//EN
METHOD:PUBLISH
X-PUBLISHED-TTL:P3D
REFRESH-INTERVAL:P3D
CALSCALE:GREGORIAN
BEGIN:VEVENT
DTSTART:20180503T230000Z
DTEND:20180504T000000Z
X-MICROSOFT-CDO-ALLDAYEVENT:FALSE
SUMMARY:Protecting Your Wealth from Long Term Care Expenses with Nate Klauser
DESCRIPTION:Are your loved ones protected from financial burden if you should require long-term care?
X-ALT-DESC;FMTTYPE=text/html:<span style="color: rgb(255\, 255\, 255)\; font-family: ProximaNova\, Helvetica\, Arial\, sans-serif\; font-size: 15px\; background-color: rgb(115\, 113\, 109)\;">Are your loved ones protected from financial burden if you should require long-term care?</span><br />\n&nbsp\;
LOCATION:Sticks & Stones Blaine\, MN
UID:e.380.180195
SEQUENCE:3
DTSTAMP:20260420T212828Z
URL:http://members.metronorthchamber.org/events/details/protecting-your-wealth-from-long-term-care-expenses-with-nate-klauser-180195
END:VEVENT

END:VCALENDAR
