BEGIN:VCALENDAR
VERSION:2.0
PRODID:-//ChamberMaster//Event Calendar 2.0//EN
METHOD:PUBLISH
X-PUBLISHED-TTL:P3D
REFRESH-INTERVAL:P3D
CALSCALE:GREGORIAN
BEGIN:VEVENT
DTSTART:20140424T223000Z
DTEND:20140424T233000Z
X-MICROSOFT-CDO-ALLDAYEVENT:FALSE
SUMMARY:Protecting your Identity\, Assets and Piece of Mind Seminar
DESCRIPTION:Julie Ward JD\, Independent Consultant\, Legal Shield will be here to discuss:\n\n\n\n1.    What is ID theft?\n\n2.    How does it happen?\n\n3.    What are the consequences?\n\n4.    What do you do if this happens to you?\n\n\n\nAsk yourself:\n\n\n\na)    Do you have a social security number?\n\nb)    Do you have a driving license?\n\nc)    Are you employed?\n\nd)    Have you visited a health care facility for treatment?\n\ne)    Have you paid for goods using means other than cash?\n\n\n\nYou could be at risk.  Find out how to better protect yourself.
X-ALT-DESC;FMTTYPE=text/html:<br />\nJulie Ward JD\, Independent Consultant\, Legal Shield will be here to discuss:<br />\n<br />\n1.&nbsp\;&nbsp\; &nbsp\;What is ID theft?<br />\n2.&nbsp\;&nbsp\; &nbsp\;How does it happen?<br />\n3.&nbsp\;&nbsp\; &nbsp\;What are the consequences?<br />\n4.&nbsp\;&nbsp\; &nbsp\;What do you do if this happens to you?<br />\n<br />\nAsk yourself:<br />\n<br />\na)&nbsp\;&nbsp\; &nbsp\;Do you have a social security number?<br />\nb)&nbsp\;&nbsp\; &nbsp\;Do you have a driving license?<br />\nc)&nbsp\;&nbsp\; &nbsp\;Are you employed?<br />\nd)&nbsp\;&nbsp\; &nbsp\;Have you visited a health care facility for treatment?<br />\ne)&nbsp\;&nbsp\; &nbsp\;Have you paid for goods using means other than cash?<br />\n<br />\nYou could be at risk.&nbsp\; Find out how to better protect yourself.<br />\n&nbsp\;
LOCATION:F&M Bank 7641 Lake Drive\, Lino Lakes
UID:e.380.150478
SEQUENCE:3
DTSTAMP:20260424T044256Z
URL:http://members.metronorthchamber.org/events/details/protecting-your-identity-assets-and-piece-of-mind-seminar-04-24-2014-150478
END:VEVENT

END:VCALENDAR
