BEGIN:VCALENDAR
VERSION:2.0
PRODID:-//ChamberMaster//Event Calendar 2.0//EN
METHOD:PUBLISH
X-PUBLISHED-TTL:P3D
REFRESH-INTERVAL:P3D
CALSCALE:GREGORIAN
BEGIN:VEVENT
DTSTART:20190424T220000Z
DTEND:20190425T000000Z
X-MICROSOFT-CDO-ALLDAYEVENT:FALSE
SUMMARY:Project Open House
DESCRIPTION:Anoka County iis planning to reconstruct 125th Ave ( CSAH 14) between Aberdeen St NE and Radisson Rd (CSAH52).Please Join us atBlaine City Hall to learn more about the project and provide feedback on the plans. We look forwward to meeting you!
X-ALT-DESC;FMTTYPE=text/html:Anoka County iis planning to reconstruct 125th Ave ( CSAH 14) between Aberdeen St NE and Radisson Rd (CSAH52).Please Join us atBlaine City Hall to learn more about the project and provide feedback on the plans. We look forwward to meeting you!
LOCATION:Blaine City Hall Cloverleaf Farms Room A(2nd Floor) 10801 Town Square Dr Blaine\, MN 55449
UID:e.380.188950
SEQUENCE:3
DTSTAMP:20260420T054705Z
URL:http://members.metronorthchamber.org/events/details/project-open-house-188950
END:VEVENT

END:VCALENDAR
