BEGIN:VCALENDAR
VERSION:2.0
PRODID:-//ChamberMaster//Event Calendar 2.0//EN
METHOD:PUBLISH
X-PUBLISHED-TTL:P3D
REFRESH-INTERVAL:P3D
CALSCALE:GREGORIAN
BEGIN:VEVENT
DTSTART:20140618T140000Z
DTEND:20140618T180000Z
X-MICROSOFT-CDO-ALLDAYEVENT:FALSE
SUMMARY:Professional Image Portrait Event
DESCRIPTION:Professional Image Portraits\n\nAKA Head Shots\n\nMake up included and applied for you!
X-ALT-DESC;FMTTYPE=text/html:Professional Image Portraits<br />\nAKA Head Shots<br />\nMake up included and applied for you!
LOCATION:Divine Photography Ramsey\, MN Address provided when appointment is scheduled.
UID:e.380.151377
SEQUENCE:3
DTSTAMP:20260424T025626Z
URL:http://members.metronorthchamber.org/events/details/professional-image-portrait-event-06-18-2014-151377
END:VEVENT

END:VCALENDAR
