BEGIN:VCALENDAR
VERSION:2.0
PRODID:-//ChamberMaster//Event Calendar 2.0//EN
METHOD:PUBLISH
X-PUBLISHED-TTL:P3D
REFRESH-INTERVAL:P3D
CALSCALE:GREGORIAN
BEGIN:VEVENT
DTSTART:20120822T160000Z
DTEND:20120822T170000Z
X-MICROSOFT-CDO-ALLDAYEVENT:FALSE
SUMMARY:Professional Head Shots from Divine Photography & Makeovers from Arbonne
DESCRIPTION:Jenny with Divine Photography & Connie Schmidt with Arbonne are teaming up to have a nice head shot taken with beautiful natural make up applied!  Total price for both services is only $60!  This reflects a 50% discount from Divine Photography!  No need to sign up in advance but get there early to sign up for your place in line.  \n\n	This event will take place twice!  First time will be after the Working With Women meeting on 8/22 and the second time will be at Divine Photography's ribbon cutting in Ramsey on 9/14.\n\n	Some tips for looking great for your photo by Connie Schmidt w/ Arbonne:\n\n	For the head shots\, clients should wear the following layered look with accents.\n\n	- If your eyes are blue with blond hair: either grey or blue shirt or jacket. white or pastel teal shirt under the jacket. \n\n	- If you have auburn hair: copper\, olive\, or brown with ivory or gold/green/ocean blue top.\n\n	- If you have brown hair and brown eyes:  olive\, brown\, black\, or rust jacket with ivory\, white\, red rust\, or teal colored accents or tops.\n\n	- General rule of thumb: no prints are suggested as they detract from eyes and lips. \n\n	As a professional woman\, your head shot should have a neutral background.  The head shot should be natural and professional.
X-ALT-DESC;FMTTYPE=text/html:<p>\n	<span style="font-size:11px\;"><span style="font-family: tahoma\;">Jenny with Divine Photography &amp\; Connie Schmidt with Arbonne are teaming up to have a nice head shot taken with beautiful natural make up applied!&nbsp\; Total price for both services is only $60!&nbsp\; This reflects a 50% discount from Divine Photography!&nbsp\; No need to sign up in advance but get there early to sign up for your place in line.&nbsp\;&nbsp\;</span></span></p>\n<p>\n	<span style="font-size:11px\;"><span style="font-family: tahoma\;">This event will take place twice!&nbsp\; First time will be after the Working With Women meeting on 8/22 and the second time will be at Divine Photography&#39\;s ribbon cutting in Ramsey on 9/14.</span></span></p>\n<p>\n	<span style="font-size:11px\;"><span style="font-family: tahoma\;">Some tips for looking great for your photo by Connie Schmidt w/ Arbonne:</span></span></p>\n<p>\n	<span style="font-size:11px\;"><span style="font-family: tahoma\;">For the head shots\, clients should wear the following layered look with accents.</span></span></p>\n<p>\n	<span style="font-size:11px\;"><span style="font-family: tahoma\;">- If your eyes are blue with blond hair: either grey or blue shirt or jacket. white or pastel teal shirt under the jacket.&nbsp\;</span></span></p>\n<p>\n	<span style="font-size:11px\;"><span style="font-family: tahoma\;">- If you have auburn hair: copper\, olive\, or brown&nbsp\;with ivory or gold/green/ocean blue&nbsp\;top.</span></span></p>\n<p>\n	<span style="font-size:11px\;"><span style="font-family: tahoma\;">- If you have brown hair and brown eyes:&nbsp\; olive\, brown\, black\, or rust jacket with ivory\, white\, red rust\, or teal colored accents or tops.</span></span></p>\n<p>\n	<span style="font-size:11px\;"><span style="font-family: tahoma\;">- General rule of thumb: no prints are suggested as they detract from eyes and lips.&nbsp\;</span></span></p>\n<p>\n	<span style="font-size:11px\;"><span style="font-family: tahoma\;">As a professional woman\, your head shot should have a neutral background.&nbsp\; The head shot should be natural and professional. </span></span></p>\n
LOCATION:Rasmussen College\, Blaine Campus 3629 95th Ave NE Blaine\, MN 55014
UID:e.380.146200
SEQUENCE:3
DTSTAMP:20260425T143200Z
URL:http://members.metronorthchamber.org/events/details/professional-head-shots-from-divine-photography-makeovers-from-arbonne-08-22-2012-146200
END:VEVENT

END:VCALENDAR
