BEGIN:VCALENDAR
VERSION:2.0
PRODID:-//ChamberMaster//Event Calendar 2.0//EN
METHOD:PUBLISH
X-PUBLISHED-TTL:P3D
REFRESH-INTERVAL:P3D
CALSCALE:GREGORIAN
BEGIN:VEVENT
DTSTART:20170123T230000Z
DTEND:20170124T020000Z
X-MICROSOFT-CDO-ALLDAYEVENT:FALSE
SUMMARY:Private Fundraiser for Impact Services
DESCRIPTION:Please join us for a special shopping event\, hosted at the amazing Chema Malu boutique\, to benefit Impact Services and our meal delivery program!\n\n\n\nZ Garica\, co-owner of Chema Malu\, will donate a percentage of all sales that evening\, with a special percent on select jewelry\, including a custom-made piece to represent the organization!!\n\n\n\nAmy Weber-DeRaad\, Independent Mary Kay Beauty Consultant\, will be onsite and will donate a percentage of her orders from the evening. \n\n\n\nProceeds will be used to support the meal delivery program and keep those hot meals in motion for folks in need on the cold winter days ahead!!\n\n\n\nBeverages and treats will be provided. Treats courtesy of Truffles and Tortes Dessert Cafe.\n\n\n\nContact Steve Griffiths @ steve@impactservicesmn.org for more questions!
X-ALT-DESC;FMTTYPE=text/html:<span style="color:rgb(75\, 79\, 86)\; font-family:helvetica neue\,helvetica\,arial\,sans-serif\; font-size:14px">Please join us for a special shopping event\, hosted at the amazing Chema Malu boutique\, to benefit Impact Services and our meal delivery program!</span><br />\n<br />\n<span style="color:rgb(75\, 79\, 86)\; font-family:helvetica neue\,helvetica\,arial\,sans-serif\; font-size:14px">Z Garica\, co-owner of Chema Malu\, will donate a percentage of all sales that evening\, with a special percent on select jewelry\, including a custom-made piece to represent the organization!!</span><br />\n<br />\n<span style="color:rgb(75\, 79\, 86)\; font-family:helvetica neue\,helvetica\,arial\,sans-serif\; font-size:14px">Amy Weber-DeRaad\, Independent Mary Kay Beauty Consultant\, will be onsite and will donate a percentage of her orders from the evening.&nbsp\;</span><br />\n<br />\n<span style="color:rgb(75\, 79\, 86)\; font-family:helvetica neue\,helvetica\,arial\,sans-serif\; font-size:14px">Proceeds will be used to support the meal delivery program and keep those hot meals in motion for folks in need on the cold winter days ahead!!</span><br />\n<br />\n<span style="color:rgb(75\, 79\, 86)\; font-family:helvetica neue\,helvetica\,arial\,sans-serif\; font-size:14px">Beverages and treats will be provided. Treats courtesy of Truffles and Tortes Dessert Cafe.</span><br />\n<br />\n<span style="color:rgb(75\, 79\, 86)\; font-family:helvetica neue\,helvetica\,arial\,sans-serif\; font-size:14px">Contact Steve Griffiths @ steve@impactservicesmn.org</span><span style="color:rgb(75\, 79\, 86)\; font-family:helvetica neue\,helvetica\,arial\,sans-serif\; font-size:14px">&nbsp\;for more questions!</span>
LOCATION:Chema Malu 208 E Main Street Anoka\, MN 55303
UID:e.380.171392
SEQUENCE:3
DTSTAMP:20260421T221128Z
URL:http://members.metronorthchamber.org/events/details/private-fundraiser-for-impact-services-171392
END:VEVENT

END:VCALENDAR
