BEGIN:VCALENDAR
VERSION:2.0
PRODID:-//ChamberMaster//Event Calendar 2.0//EN
METHOD:PUBLISH
X-PUBLISHED-TTL:P3D
REFRESH-INTERVAL:P3D
CALSCALE:GREGORIAN
BEGIN:VEVENT
DTSTART:20180114T150000Z
DTEND:20180114T230000Z
X-MICROSOFT-CDO-ALLDAYEVENT:FALSE
SUMMARY:PRESSED Open House
DESCRIPTION:Open House & Ribbon Cutting!\n\nFree juice samples\, free classes and giveaways.
X-ALT-DESC;FMTTYPE=text/html:Open House &amp\; Ribbon Cutting!<br />\nFree juice samples\, free classes and giveaways.
LOCATION:12425 Ulysses Street Blaine 55434
UID:e.380.179571
SEQUENCE:3
DTSTAMP:20260421T033944Z
URL:http://members.metronorthchamber.org/events/details/pressed-open-house-179571
END:VEVENT

END:VCALENDAR
